BEGIN:VCALENDAR
VERSION:2.0
PRODID:-//eventon.com NONSGML v1.0//EN
CALSCALE:GREGORIAN
METHOD:PUBLISH
BEGIN:VEVENT
UID:69e5e7df061d3
DTSTAMP:20260420T084623Z
DTSTART:20260418T140000Z
DTEND:20260419T035900Z
LOCATION:Fort Tabor Military Museum 1000C Rodney French Blvd\,  New Bedford\,  MA 02744
SUMMARY:New Bedford\,  MA
DESCRIPTION:At a Vets Town Hall event\,  veterans&nbsp;have the opportunity
  to&nbsp;share their experiences with their community for up to ten minutes
 .&nbsp;These town halls aim to foster a collective understanding of the wid
 e range of emotions veterans may express by&nbsp;providing&nbsp;a platform 
 for storytelling.&nbsp; https://youtu.be/I1zBT3yotgQ?si=SiDwlH5ZZHax0oXr&nb
 sp;\nhttps://vetstownhall.org/events/new-bedford-ma-4/
URL:https://vetstownhall.org/events/new-bedford-ma-4/
END:VEVENT
END:VCALENDAR